BEGIN:VCALENDAR
PRODID:Torony Majális
VERSION:2.0
CALSCALE:GREGORIAN
BEGIN:VEVENT
UID:039033583bbd8172a6d89ad45f051525
DTSTAMP:20260422T002625Z
SUMMARY:Torony Majális
DTSTART;TZID=Europe/Budapest:20260501T140000
DTEND;TZID=Europe/Budapest:20260501T220000
LOCATION:Víztoronykert
END:VEVENT
END:VCALENDAR
