BEGIN:VCALENDAR
PRODID:CO LEE
VERSION:2.0
CALSCALE:GREGORIAN
BEGIN:VEVENT
UID:623fa43d07b7b6d5670acc7065cc73c4
DTSTAMP:20260423T150122Z
SUMMARY:CO LEE
DTSTART;TZID=Europe/Budapest:20250927T190000
DTEND;TZID=Europe/Budapest:20250927T190000
LOCATION:Víztoronykert
END:VEVENT
END:VCALENDAR
